BEGIN:VCALENDAR
VERSION:2.0
PRODID:icalendar-ruby
CALSCALE:GREGORIAN
METHOD:PUBLISH
BEGIN:VEVENT
DTSTAMP:20260421T132320Z
UID:37-493718@alcrpv.org
DTSTART;VALUE=DATE:20260420
DTEND;VALUE=DATE:20260502
CLASS:PUBLIC
CREATED:20260420T135452
DESCRIPTION:Support ALC Preschool by bidding on one (or more!) of our 55 ha
 nd-curated baskets. There’s something for everyone:\n• Staycations and
  getaway experiences• Family-friendly fun and adults-only treats• Uniq
 ue experiences... from visual therapy sessions to visits with Santa• Ind
 ulgent sweets and wellness-focused offerings\nAuction ends Saturday\, May 
 2\, at 6:45pm... so don't miss out!
LAST-MODIFIED:20260420T135452
LOCATION:Online Only
SUMMARY:Silent Auction
URL;VALUE=URI:https://www.alcrpv.org/events/silent-auction/2026-04-20
ATTACH;FILENAME=2025-04-PS-Silent-Auction.jpg;FMTTYPE=image/jpeg:https://dq
 5pwpg1q8ru0.cloudfront.net/2025/03/20/23/26/58/f85276e9-e0e4-45ac-8a4b-0e9
 dcb4ba8a2/2025-04-PS-Silent-Auction.jpg
END:VEVENT
END:VCALENDAR
